BEGIN:VCALENDAR
VERSION:2.0
PRODID:-//Coforge Salesforce Business Unit - ECPv6.0.0.1//NONSGML v1.0//EN
CALSCALE:GREGORIAN
METHOD:PUBLISH
X-WR-CALNAME:Coforge Salesforce Business Unit
X-ORIGINAL-URL:https://salesforce.coforge.site
X-WR-CALDESC:Events for Coforge Salesforce Business Unit
REFRESH-INTERVAL;VALUE=DURATION:PT1H
X-Robots-Tag:noindex
X-PUBLISHED-TTL:PT1H
BEGIN:VTIMEZONE
TZID:UTC
BEGIN:STANDARD
TZOFFSETFROM:+0000
TZOFFSETTO:+0000
TZNAME:UTC
DTSTART:20180101T000000
END:STANDARD
END:VTIMEZONE
BEGIN:VEVENT
DTSTART;VALUE=DATE:20181006
DTEND;VALUE=DATE:20181007
DTSTAMP:20260421T190221
CREATED:20180820T113252Z
LAST-MODIFIED:20220525T182840Z
UID:1190-1538784000-1538870399@salesforce.coforge.site
SUMMARY:Past event: MuleSoft Hyderabad Meetup
DESCRIPTION:Join Coforge (Erstwhile WHISHWORKS) for MuleSoft’s most engaging Hyderabad Meetup yet. Hear from experts\, connect with peers and walk away with a number of actionable ways to migrate to Mule 4.
URL:https://salesforce.coforge.site/event/mulesoft-hyderabad-meetup/
CATEGORIES:On-site event
ATTACH;FMTTYPE=image/jpeg:https://salesforce.coforge.site/wp-content/uploads/2020/08/hyderabad-2.jpg
END:VEVENT
END:VCALENDAR